BEGIN:VCALENDAR
VERSION:2.0
PRODID:-//Virtual Enterprises International - ECPv6.6.2//NONSGML v1.0//EN
CALSCALE:GREGORIAN
METHOD:PUBLISH
X-ORIGINAL-URL:https://veinternational.org
X-WR-CALDESC:Events for Virtual Enterprises International
REFRESH-INTERVAL;VALUE=DURATION:PT1H
X-Robots-Tag:noindex
X-PUBLISHED-TTL:PT1H
BEGIN:VTIMEZONE
TZID:America/Halifax
BEGIN:DAYLIGHT
TZOFFSETFROM:-0400
TZOFFSETTO:-0300
TZNAME:ADT
DTSTART:20250309T060000
END:DAYLIGHT
BEGIN:STANDARD
TZOFFSETFROM:-0300
TZOFFSETTO:-0400
TZNAME:AST
DTSTART:20251102T050000
END:STANDARD
END:VTIMEZONE
BEGIN:VEVENT
DTSTART;TZID=America/Halifax:20250214T000000
DTEND;TZID=America/Halifax:20250227T000000
DTSTAMP:20260423T151816
CREATED:20240820T142905Z
LAST-MODIFIED:20240904T211244Z
UID:10000014-1739491200-1740614400@veinternational.org
SUMMARY:National Video Commercial Competition
DESCRIPTION:A video advertisement is a short video (usually 30 to 60 seconds) designed to attract potential customers. An effective video commercial will grab attention\, garner interest\, and get people excited about the company.\nThis competition challenges VE students to produce a 30 to 60 second video commercial that effectively promotes their business and product/service offerings. In this competition Judges are asked to view\, rate\, and provide feedback to student-made video commercials about their VE companies.
URL:https://veinternational.org/event/national-video-commercial-competition/
CATEGORIES:National,Online
ATTACH;FMTTYPE=image/png:https://veinternational.org/wp-content/uploads/2024/08/Video-Commercial-MailChimp-Gif-e1725484292537.png
END:VEVENT
END:VCALENDAR