BEGIN:VCALENDAR
VERSION:2.0
PRODID:-//Virtual Enterprises International - ECPv6.6.2//NONSGML v1.0//EN
CALSCALE:GREGORIAN
METHOD:PUBLISH
X-WR-CALNAME:Virtual Enterprises International
X-ORIGINAL-URL:https://veinternational.org
X-WR-CALDESC:Events for Virtual Enterprises International
REFRESH-INTERVAL;VALUE=DURATION:PT1H
X-Robots-Tag:noindex
X-PUBLISHED-TTL:PT1H
BEGIN:VTIMEZONE
TZID:America/Halifax
BEGIN:DAYLIGHT
TZOFFSETFROM:-0400
TZOFFSETTO:-0300
TZNAME:ADT
DTSTART:20250309T060000
END:DAYLIGHT
BEGIN:STANDARD
TZOFFSETFROM:-0300
TZOFFSETTO:-0400
TZNAME:AST
DTSTART:20251102T050000
END:STANDARD
BEGIN:DAYLIGHT
TZOFFSETFROM:-0400
TZOFFSETTO:-0300
TZNAME:ADT
DTSTART:20260308T060000
END:DAYLIGHT
BEGIN:STANDARD
TZOFFSETFROM:-0300
TZOFFSETTO:-0400
TZNAME:AST
DTSTART:20261101T050000
END:STANDARD
END:VTIMEZONE
BEGIN:VEVENT
DTSTART;VALUE=DATE:20260204
DTEND;VALUE=DATE:20260303
DTSTAMP:20260422T191738
CREATED:20260204T164948Z
LAST-MODIFIED:20260205T204328Z
UID:10000114-1770163200-1772495999@veinternational.org
SUMMARY:2026 VE-JV Company Branding Competition
DESCRIPTION:Date: February 4 – March 2\, 2026 \nFormat: Asynchronous – Rate submissions at any time within the judging period using our online VE Competitions Manager \nIn this online competition\, VE-JV students demonstrate their company branding through the submission of a branding package that includes the company logo\, fonts\, color palette and associated applications such as a company letterhead\, business cards\, sales materials and more. Judges are asked to review and score student branding packages and provide helpful feedback.
URL:https://veinternational.org/event/2026-ve-jv-company-branding-competition/
LOCATION:Online – At Your Own Pace
CATEGORIES:National
ATTACH;FMTTYPE=image/jpeg:https://veinternational.org/wp-content/uploads/2026/02/DSC00057-scaled.jpg
END:VEVENT
BEGIN:VEVENT
DTSTART;TZID=America/Halifax:20260120T000000
DTEND;TZID=America/Halifax:20260220T000000
DTSTAMP:20260422T191738
CREATED:20260120T161411Z
LAST-MODIFIED:20260209T142840Z
UID:10000113-1768867200-1771545600@veinternational.org
SUMMARY:National E-Commerce Website Competition
DESCRIPTION:An effective website will demonstrate the company’s mission\, provide ease and use for customer purchases\, apply branding consistently\, and contain value-added content and features to enhance the customer experience. This competition challenges VE students to showcase their business and product/service offerings through the submission of their company website.\nJudges are asked to review and explore student made e-commerce websites and provide productive and helpful feedback.
URL:https://veinternational.org/event/national-e-commerce-website-competition-2/
LOCATION:Online – At Your Own Pace
CATEGORIES:National,Online
ATTACH;FMTTYPE=image/jpeg:https://veinternational.org/wp-content/uploads/2024/08/Website_gambar-e1725482211704.jpg
END:VEVENT
BEGIN:VEVENT
DTSTART;VALUE=DATE:20251121
DTEND;VALUE=DATE:20251220
DTSTAMP:20260422T191738
CREATED:20251118T163941Z
LAST-MODIFIED:20251118T163941Z
UID:10000112-1763683200-1766188799@veinternational.org
SUMMARY:2025 National Company Branding Competition
DESCRIPTION:Date: November 21-December 19\, 2025 \nFormat: Asynchronous – Rate submissions at any time within the judging period using our online VE Competitions Manager \nIn this online competition\, VE students demonstrate their company branding through the submission of a branding package that includes the company logo\, fonts\, color palette and associated applications such as a company letterhead\, business cards\, sales materials and more. Judges are asked to review and score student branding packages and provide helpful feedback.
URL:https://veinternational.org/event/2025-national-company-branding-competition/
LOCATION:Online – At Your Own Pace
CATEGORIES:National
ATTACH;FMTTYPE=image/jpeg:https://veinternational.org/wp-content/uploads/2025/11/P1018555-scaled.jpg
END:VEVENT
BEGIN:VEVENT
DTSTART;TZID=America/Halifax:20250508T000000
DTEND;TZID=America/Halifax:20250522T000000
DTSTAMP:20260422T191738
CREATED:20240820T142908Z
LAST-MODIFIED:20240904T212732Z
UID:10000015-1746662400-1747872000@veinternational.org
SUMMARY:National Company Newsletter Competition
DESCRIPTION:The company newsletter is used to communicate information to company employees and VE stakeholders. An effective company newsletter will promote the company\, highlight successes\, keep business partners and investors apprised of the company’s progress\, and acknowledge exemplary employees or departments.\nThis competition challenges VE students to showcase their company culture through the submission of an informative and compelling end of year company newsletter. In this competition Judges are asked to view\, rate\, and provide feedback on student-made company newsletters.
URL:https://veinternational.org/event/national-company-newsletter-competition/
LOCATION:Online – At Your Own Pace
CATEGORIES:National,Online
ATTACH;FMTTYPE=image/jpeg:https://veinternational.org/wp-content/uploads/2024/08/1715963820813-e1725485182704.jpeg
END:VEVENT
BEGIN:VEVENT
DTSTART;TZID=America/Halifax:20250214T000000
DTEND;TZID=America/Halifax:20250227T000000
DTSTAMP:20260422T191738
CREATED:20240820T142905Z
LAST-MODIFIED:20240904T211244Z
UID:10000014-1739491200-1740614400@veinternational.org
SUMMARY:National Video Commercial Competition
DESCRIPTION:A video advertisement is a short video (usually 30 to 60 seconds) designed to attract potential customers. An effective video commercial will grab attention\, garner interest\, and get people excited about the company.\nThis competition challenges VE students to produce a 30 to 60 second video commercial that effectively promotes their business and product/service offerings. In this competition Judges are asked to view\, rate\, and provide feedback to student-made video commercials about their VE companies.
URL:https://veinternational.org/event/national-video-commercial-competition/
CATEGORIES:National,Online
ATTACH;FMTTYPE=image/png:https://veinternational.org/wp-content/uploads/2024/08/Video-Commercial-MailChimp-Gif-e1725484292537.png
END:VEVENT
BEGIN:VEVENT
DTSTART;TZID=America/Halifax:20250117T000000
DTEND;TZID=America/Halifax:20250130T000000
DTSTAMP:20260422T191738
CREATED:20240820T142905Z
LAST-MODIFIED:20240904T203747Z
UID:10000013-1737072000-1738195200@veinternational.org
SUMMARY:National E-Commerce Website Competition
DESCRIPTION:An effective website will demonstrate the company’s mission\, provide ease and use for customer purchases\, apply branding consistently\, and contain value-added content and features to enhance the customer experience. This competition challenges VE students to showcase their business and product/service offerings through the submission of their company website.\nJudges are asked to review and explore student made e-commerce websites and provide productive and helpful feedback.
URL:https://veinternational.org/event/national-e-commerce-website-competition/
LOCATION:Online – At Your Own Pace
CATEGORIES:National,Online
ATTACH;FMTTYPE=image/jpeg:https://veinternational.org/wp-content/uploads/2024/08/Website_gambar-e1725482211704.jpg
END:VEVENT
END:VCALENDAR