BEGIN:VCALENDAR
VERSION:2.0
PRODID:-//Virtual Enterprises International - ECPv6.6.2//NONSGML v1.0//EN
CALSCALE:GREGORIAN
METHOD:PUBLISH
X-WR-CALNAME:Virtual Enterprises International
X-ORIGINAL-URL:https://veinternational.org
X-WR-CALDESC:Events for Virtual Enterprises International
REFRESH-INTERVAL;VALUE=DURATION:PT1H
X-Robots-Tag:noindex
X-PUBLISHED-TTL:PT1H
BEGIN:VTIMEZONE
TZID:America/Halifax
BEGIN:DAYLIGHT
TZOFFSETFROM:-0400
TZOFFSETTO:-0300
TZNAME:ADT
DTSTART:20250309T060000
END:DAYLIGHT
BEGIN:STANDARD
TZOFFSETFROM:-0300
TZOFFSETTO:-0400
TZNAME:AST
DTSTART:20251102T050000
END:STANDARD
END:VTIMEZONE
BEGIN:VEVENT
DTSTART;TZID=America/Halifax:20250108T080000
DTEND;TZID=America/Halifax:20250109T133000
DTSTAMP:20260422T110438
CREATED:20240829T193148Z
LAST-MODIFIED:20240904T201456Z
UID:10000050-1736323200-1736429400@veinternational.org
SUMMARY:NYS-VE Regional Business Plan Competition and Trade Show
DESCRIPTION:The New York State Regional Business Plan Competition and Trade Show is a two day event at LIU Post that brings together firms from all over Long Island and NY state to compete in the first round of the National Business Plan Competition as well as participate in a trade show to demonstrate their business skills learned through the VE program. The event is broken down into the two following events: \nBusiness Plan Competition – The National Business Plan Competition challenges students to demonstrate their business expertise through written submissions and oral presentations of their company’s complete business plan. Startup companies and continuing businesses may be presented. The top teams from this competition will earn a spot to compete in the Long Island Business Plan Championship Round in February. \nBest Booth & Sales Pitch Competition – The VE Trade Exhibition welcomes firms from around NY State to showcase their student-run businesses and demonstrate their skills by promoting and selling their products and services to guest shoppers. Volunteers will rate Sales Pitch And Booth Design participating as guest shoppers and interacting with students on the trade show floor.
URL:https://veinternational.org/event/nys-ve-regional-business-plan-competition-and-trade-show/
LOCATION:LIU Post\, 720 Northern Blvd\, Greenvale\, NY\, 11548
ATTACH;FMTTYPE=image/jpeg:https://veinternational.org/wp-content/uploads/2024/08/DSC00294-scaled-e1725390042319.jpg
END:VEVENT
BEGIN:VEVENT
DTSTART;TZID=America/Halifax:20250113T080000
DTEND;TZID=America/Halifax:20250113T123000
DTSTAMP:20260422T110438
CREATED:20240829T193044Z
LAST-MODIFIED:20240918T153620Z
UID:10000033-1736755200-1736771400@veinternational.org
SUMMARY:NYS-VE Regional Online Business Plan Competition
DESCRIPTION:This competition challenges students to demonstrate their global business expertise through written submissions and oral presentations.\nVolunteers judges will use their industry experience to give students valuable feedback.\nStudents will present their work on a live video conferencing tool and volunteers will watch presentations\, score teams\, and give feedback based on the competition rubric.
URL:https://veinternational.org/event/nys-ve-regional-online-business-plan-competition-2/
LOCATION:Online – Live via Zoom
ATTACH;FMTTYPE=image/png:https://veinternational.org/wp-content/uploads/2024/08/Screenshot-2024-09-04-at-4.31.33 PM-e1725481926293.png
END:VEVENT
BEGIN:VEVENT
DTSTART;TZID=America/Halifax:20250114T080000
DTEND;TZID=America/Halifax:20250114T170000
DTSTAMP:20260422T110438
CREATED:20240905T180107Z
LAST-MODIFIED:20240918T185822Z
UID:10000061-1736841600-1736874000@veinternational.org
SUMMARY:2025 Central NJ Business Plan Competition & Exhibition
DESCRIPTION:The 2025 Central NJ Business Plan Competition & Exhibition challenges NJ teams to showcase their global business expertise through written submissions and oral presentations\, competing to qualify for the National Business Plan Competition at the Youth Business Summit in April. \nTeams of 3-6 students will have 10 minutes to present their business plan\, followed by 5 minutes of Q&A with the judges.\nDuring this event students also have the opportunity to participate in a trade show to present their sales skills and compete in competitions such as booth design and sales pitch.
URL:https://veinternational.org/event/2025-central-nj-business-plan-competition-exhibition/
LOCATION:Fairleigh Dickinson University\, 285 Madison Avenue\, Madison\, NJ\, 07940\, United States
ATTACH;FMTTYPE=image/png:https://veinternational.org/wp-content/uploads/2024/09/Central-Division-Mid-Atlantic-e1726685893647.png
END:VEVENT
BEGIN:VEVENT
DTSTART;TZID=America/Halifax:20250115T090000
DTEND;TZID=America/Halifax:20250115T120000
DTSTAMP:20260422T110438
CREATED:20240905T162716Z
LAST-MODIFIED:20240918T185907Z
UID:10000060-1736931600-1736942400@veinternational.org
SUMMARY:2025 Mid-Atlantic South Division Business Plan Competition
DESCRIPTION:The South Division Business Plan Competition brings together schools from the Mid-Atlantic Region to compete for their regional business plan competition. Firms will compete for the opportunity to represent their firm at the National Business Plan Competition in April.
URL:https://veinternational.org/event/2025-mid-atlantic-south-division-business-plan-competition/
LOCATION:Online – Live via Zoom
ATTACH;FMTTYPE=image/png:https://veinternational.org/wp-content/uploads/2024/09/South-Division-Mid-Atlantic-1-e1726685932610.png
END:VEVENT
BEGIN:VEVENT
DTSTART;TZID=America/Halifax:20250122T073000
DTEND;TZID=America/Halifax:20250123T130000
DTSTAMP:20260422T110438
CREATED:20240829T193204Z
LAST-MODIFIED:20241002T162629Z
UID:10000055-1737531000-1737637200@veinternational.org
SUMMARY:2025 Bakersfield Trade Show
DESCRIPTION:The 2025 California State Conference and Exhibition is a series of business education events will be held over 2 days.\nEvents include:  Trade Show\, Video Commercial\, Elevator Pitch\, Newsletter\, Sales Pitch\, Rapid Prototype\, Job Interview and Booth Design.\nCompetitions for VE only are the national qualifying rounds for Business Plan\, Marketing Plan and Human Resource.
URL:https://veinternational.org/event/2025-bakersfield-trade-show/
LOCATION:Mechanics Bank Arena and Convention Center\, 1001 Truxtun Avenue\, Bakersfield\, CA\, 93301
ATTACH;FMTTYPE=image/jpeg:https://veinternational.org/wp-content/uploads/2024/08/IMG_0897-scaled-1-e1725482921805.jpg
END:VEVENT
BEGIN:VEVENT
DTSTART;TZID=America/Halifax:20250130T100000
DTEND;TZID=America/Halifax:20250130T123000
DTSTAMP:20260422T110438
CREATED:20240829T193049Z
LAST-MODIFIED:20250106T174725Z
UID:10000037-1738231200-1738240200@veinternational.org
SUMMARY:NYC Business Plan Competition: Wild Card Qualifiers Round
DESCRIPTION:This competition challenges students to demonstrate their global business expertise through written submissions and oral presentations. Volunteers judges will use their industry experience to give students valuable feedback.\nStudents will present their work on a live video conferencing tool and volunteers will watch presentations\, score teams\, and give feedback based on the competition rubric.
URL:https://veinternational.org/event/nyc-business-plan-competition-wild-card-qualifiers-round-2/
LOCATION:Online – Live via Zoom
END:VEVENT
END:VCALENDAR