BEGIN:VCALENDAR
VERSION:2.0
PRODID:-//Virtual Enterprises International - ECPv6.6.2//NONSGML v1.0//EN
CALSCALE:GREGORIAN
METHOD:PUBLISH
X-ORIGINAL-URL:https://veinternational.org
X-WR-CALDESC:Events for Virtual Enterprises International
REFRESH-INTERVAL;VALUE=DURATION:PT1H
X-Robots-Tag:noindex
X-PUBLISHED-TTL:PT1H
BEGIN:VTIMEZONE
TZID:America/Halifax
BEGIN:DAYLIGHT
TZOFFSETFROM:-0400
TZOFFSETTO:-0300
TZNAME:ADT
DTSTART:20250309T060000
END:DAYLIGHT
BEGIN:STANDARD
TZOFFSETFROM:-0300
TZOFFSETTO:-0400
TZNAME:AST
DTSTART:20251102T050000
END:STANDARD
BEGIN:DAYLIGHT
TZOFFSETFROM:-0400
TZOFFSETTO:-0300
TZNAME:ADT
DTSTART:20260308T060000
END:DAYLIGHT
BEGIN:STANDARD
TZOFFSETFROM:-0300
TZOFFSETTO:-0400
TZNAME:AST
DTSTART:20261101T050000
END:STANDARD
END:VTIMEZONE
BEGIN:VEVENT
DTSTART;TZID=America/Halifax:20251201T080000
DTEND;TZID=America/Halifax:20251218T133000
DTSTAMP:20260422T160417
CREATED:20250804T182538Z
LAST-MODIFIED:20250804T182843Z
UID:10000081-1764576000-1766064600@veinternational.org
SUMMARY:2025 Southern Region Firms Promotional Week - Submission Scoring
DESCRIPTION:Event Description: Southern Regional Promotional Week is an engaging weeklong experience where students across the Southern region take part in interactive business activities designed to strengthen their skills in sales\, marketing\, and entrepreneurship. Guided by a VE Promotional Week Bingo Card\, students will complete a series of tasks that simulate real-world business operations. \nActivities include registering for the Online Trade Show\, completing trainings on trade show etiquette and the sales process\, setting up e-commerce websites\, running pre-sales\, and managing digital marketing through email and social media competitions. Additional highlights include the Banner Ad Competition\, a T-Shirt Design Competition\, with the winning design featured and sold at the Southern Region Competition & Exhibition and the SR Online Trade Show\, where firms will present their products live\, analyze competitors\, and explore emerging trends in the VE economy. \nJudge Needs: \nWe are currently seeking guest shoppers to join us for the Online Trade Show on December 4th\, where students will engage in live Zoom sales sessions. We are also in need of asynchronous judges to evaluate student submissions for various competitions between December 15 and January 9 on the VE Competition Manager. Your participation will support students’ growth and add valuable authenticity to their experiences.
URL:https://veinternational.org/event/2025-southern-region-firms-promotional-week-submission-scoring/
LOCATION:Online – At Your Own Pace
ATTACH;FMTTYPE=image/jpeg:https://veinternational.org/wp-content/uploads/2025/08/Untitled-design.jpg
END:VEVENT
BEGIN:VEVENT
DTSTART;TZID=America/Halifax:20251205T080000
DTEND;TZID=America/Halifax:20251205T133000
DTSTAMP:20260422T160417
CREATED:20250905T195204Z
LAST-MODIFIED:20250930T133326Z
UID:10000096-1764921600-1764941400@veinternational.org
SUMMARY:Bakersfield Regional Business Plan Competition
DESCRIPTION:Event Overview\n📅 Date: December 5\, 2025\n🕘 Time: 8:15 am – 1:45 pm PT\n📍 Location: Career & Technical Education Center\, 7301 Old River Rd\, Bakersfield\, CA 93311 \nAbout the Business Plan Competition\nThe Business Plan Competition challenges student teams to develop\, present\, and defend a comprehensive business plan. Judges play a vital role in evaluating both the written and live components of the competition. \nJudging Responsibilities: \nBusiness Overview Document \nReview and score each team’s 4-page overview\, which will be shared prior to the event. Judges are encouraged to complete scoring in advance\, but time will be provided on the event day if needed. \nLive Business Plan Presentations \nObserve student presentations during the competition.\nEngage in a Q&A session with each team.\nScore presentations using the provided VE rubric.
URL:https://veinternational.org/event/bakersfield-regional-business-plan-competition/
LOCATION:Career & Education Technical Center (CTEC)\, 7301 Old River Rd\, Bakersfield\, CA\, 93311\, United States
ATTACH;FMTTYPE=image/jpeg:https://veinternational.org/wp-content/uploads/2025/09/JWP_VEI_BusinessPlanLIU_021723-6363-scaled-e1757101892511.jpg
END:VEVENT
BEGIN:VEVENT
DTSTART;TZID=America/Halifax:20251208T073000
DTEND;TZID=America/Halifax:20251208T140000
DTSTAMP:20260422T160417
CREATED:20250905T195648Z
LAST-MODIFIED:20251006T151600Z
UID:10000097-1765179000-1765202400@veinternational.org
SUMMARY:Orange County Business Plan Competition
DESCRIPTION:Date: December 8\, 2025 \nTime: 8:00 am – 11:30 am or  10:45 am – 2:30 pm Pacific Time \nLocation: Orange County Department of Education\, 200 Kalmus Dr\, Costa Mesa\, CA 92626 \nAbout the Business Plan Competition\nThe Business Plan Competition challenges student teams to develop\, present\, and defend a comprehensive business plan. Judges play a vital role in evaluating both the written and live components of the competition. \nJudging Responsibilities: \nBusiness Overview Document \nReview and score each team’s 4-page overview\, which will be shared prior to the event. Judges are encouraged to complete scoring in advance\, but time will be provided on the event day if needed. \nLive Business Plan Presentations \nObserve student presentations during the competition.\nEngage in a Q&A session with each team.\nScore presentations using the provided VE rubric.
URL:https://veinternational.org/event/orange-county-business-plan-competition-2/
LOCATION:Orange County Department of Education\, 200 Kalmus Dr\, Costa Mesa\, CA\, 92626\, United States
ATTACH;FMTTYPE=image/jpeg:https://veinternational.org/wp-content/uploads/2025/09/DSC09768-1-scaled-e1757102197714.jpg
END:VEVENT
BEGIN:VEVENT
DTSTART;TZID=America/Halifax:20251210T090000
DTEND;TZID=America/Halifax:20251210T140000
DTSTAMP:20260422T160417
CREATED:20251020T181623Z
LAST-MODIFIED:20251020T181642Z
UID:10000109-1765357200-1765375200@veinternational.org
SUMMARY:LA Regional Business Plan Competition
DESCRIPTION:Date: December 10\, 2025 \nTime: 9:00 am – 1:45 pm Pacific Time \nLocation: Thousand Oaks High School\, 2323 N Moorpark Rd\, Thousand Oaks\, CA 91360 \nAbout the Business Plan Competition\nThe Business Plan Competition challenges student teams to develop\, present\, and defend a comprehensive business plan. Judges play a vital role in evaluating both the written and live components of the competition. \nJudging Responsibilities: \nBusiness Overview Document \nReview and score each team’s 4-page overview\, which will be shared prior to the event. Judges are encouraged to complete scoring in advance\, but time will be provided on the event day if needed. \nLive Business Plan Presentations \nObserve student presentations during the competition.\nEngage in a Q&A session with each team.\nScore presentations using the provided VE rubric.
URL:https://veinternational.org/event/la-regional-business-plan-competition/
LOCATION:Thousand Oaks High School\, 2323 N Moorpark RD\, Thousand Oaks\, CA\, 91360\, United States
ATTACH;FMTTYPE=image/jpeg:https://veinternational.org/wp-content/uploads/2025/09/JWP_VEI_BusinessPlanLIU_021723-7486-scaled-e1757440653608.jpg
END:VEVENT
BEGIN:VEVENT
DTSTART;TZID=America/Halifax:20251212T090000
DTEND;TZID=America/Halifax:20251212T140000
DTSTAMP:20260422T160417
CREATED:20250930T194146Z
LAST-MODIFIED:20250930T194401Z
UID:10000104-1765530000-1765548000@veinternational.org
SUMMARY:2025 NorCal Regional Business Plan Competition
DESCRIPTION:Date: December 12\, 2025 \nTime: 9:00 am – 2:00 pm Pacific Time \nLocation: Napa Valley College\, 2277 Napa Vallejo Hwy\, Napa\, CA 94558 \nAbout the Business Plan Competition\nThe Business Plan Competition challenges student teams to develop\, present\, and defend a comprehensive business plan. Judges play a vital role in evaluating both the written and live components of the competition. \nJudging Responsibilities: \nBusiness Overview Document \nReview and score each team’s 4-page overview\, which will be shared prior to the event. Judges are encouraged to complete scoring in advance\, but time will be provided on the event day if needed. \nLive Business Plan Presentations \nObserve student presentations during the competition.\nEngage in a Q&A session with each team.\nScore presentations using the provided VE rubric.
URL:https://veinternational.org/event/2025-norcal-regional-business-plan-competition/
LOCATION:Napa Valley College\, 2277 Napa Vallejo Hwy\, Napa\, CA\, 94558
ATTACH;FMTTYPE=image/jpeg:https://veinternational.org/wp-content/uploads/2025/09/IMG_3314-scaled-e1759261434625.jpg
END:VEVENT
BEGIN:VEVENT
DTSTART;TZID=America/Halifax:20251215T080000
DTEND;TZID=America/Halifax:20251215T123000
DTSTAMP:20260422T160417
CREATED:20250905T201754Z
LAST-MODIFIED:20251006T151736Z
UID:10000098-1765785600-1765801800@veinternational.org
SUMMARY:2025 San Diego Conference and Exhibition
DESCRIPTION:Event Overview\n📅 Date: December 15\, 2025\n🕘 Time: 8:00 am – 12:00 pm PT (Times vary per competition please see below)\n📍 Location: San Diego State University\, 5500 Campanile Dr\, San Diego\, CA 92182 \nJudging Opportunities at the San Diego Conference & Exhibition \nThere are multiple ways to get involved as a judge at the San Diego Conference & Exhibition. Volunteers can choose to participate in one or more of the following competitions: \n1. Business Plan Competition\nThe Business Plan Competition challenges student teams to develop\, present\, and defend a comprehensive business plan. Judges play a vital role in evaluating both the written and live components of the competition. \nBusiness Overview Document \nReview and score each team’s 4-page overview\, which will be shared prior to the event. Judges are encouraged to complete scoring in advance\, but time will be provided on the event day if needed. \nLive Business Plan Presentations \nObserve student presentations during the competition.\nEngage in a Q&A session with each team.\nScore presentations using the provided VE rubric. \n2. Sales Pitch Competition (Trade Show)\nStudent representatives deliver quick\, persuasive pitches to highlight their company’s product or service. Judges will: Listen to live pitches at the Trade Show.\nEvaluate presentation skills\, clarity\, and persuasiveness.\nProvide scores based on the competition rubric. \n3. Booth Design Competition (Trade Show)\nCompanies showcase their products and services through interactive trade show booths. Judges will: Visit booths on the Trade Show floor.\nAssess creativity\, professionalism\, and effectiveness of booth displays.\nProvide scores using the competition rubric.
URL:https://veinternational.org/event/2025-san-diego-conference-and-exhibition/
LOCATION:San Diego State University\, 5500 Campanile Drive\, San Diego\, CA\, 92182
ATTACH;FMTTYPE=image/jpeg:https://veinternational.org/wp-content/uploads/2025/09/DSC08901-scaled-e1757103461262.jpg
END:VEVENT
BEGIN:VEVENT
DTSTART;VALUE=DATE:20251218
DTEND;VALUE=DATE:20260118
DTSTAMP:20260422T160417
CREATED:20250909T175743Z
LAST-MODIFIED:20250909T194715Z
UID:10000099-1766016000-1768694399@veinternational.org
SUMMARY:Kern Western Conf & Exhibition\, Online Competitions
DESCRIPTION:The Kern Western Conference & Exhibition will be held at Dignity Health Arena\, Theater and Convention Center\, 1001 Truxtun Ave\, Bakersfield\, CA 93301 on Tuesday\, February 4\, 2026. Join us for various competitions\, a trade show\, and networking opportunities. \nThe online submission competitions happen before the event\, and the winners will be announced at the conference on February 4th. \nJudging Period: December 18\, 2025 – January 17\, 2026 \nFor this competition\, you will be judging submissions on our VE Hub. \nPlease register below to be a judge for the following online submission-based competitions: \nMarketing Plan: Firms submit a written marketing plan. Submissions are evaluated on strategy\, clarity\, feasibility\, and professionalism.\nHuman Resource Plan: Firms submit a written human resource plan. Submissions are evaluated on organization\, strategy\, and professionalism.\nVideo Commercial: Each firm must record a 30-to 60-second video commercial promoting their business and/or product(s)/service(s) to attract potential customers.\nCompany Newsletter: Firms create a newsletter demonstrating communication\, content quality\, and design.\nBanner Ad – Valentine’s Day Theme: Firms create a 728×90 pixel banner ad (leaderboard) designed to spark interest and attract traffic to a website. (VE-JV Invited)\nBusiness Plan: Firms submit a 4-page overview of their business plan\, evaluated for content\, clarity\, and professionalism. (Top 42 firms only)
URL:https://veinternational.org/event/kern-western-conf-exhibition-online-competitions/
LOCATION:Online – At Your Own Pace
ATTACH;FMTTYPE=image/jpeg:https://veinternational.org/wp-content/uploads/2025/09/JWP_VEI_BusinessPlanLIU_021723-7486-scaled-e1757440653608.jpg
END:VEVENT
BEGIN:VEVENT
DTSTART;TZID=America/Halifax:20251219T080000
DTEND;TZID=America/Halifax:20260108T133000
DTSTAMP:20260422T160417
CREATED:20250804T185120Z
LAST-MODIFIED:20250804T185120Z
UID:10000083-1766131200-1767879000@veinternational.org
SUMMARY:Business Overview Scoring - TX\,  FL \,NC
DESCRIPTION:We’re looking for volunteer judges to evaluate student submissions for the VE Business Overview Competition. Judging is asynchronous and flexible—judges will be assigned submissions through the VE Competitions Manager and can complete scoring over multiple days at their own pace. \nJudges will evaluate written business overviews based on a provided rubric\, covering elements such as company mission\, rationale\, marketing strategy\, financial highlights\, and overall organization. Each section will be rated from 1 to 5 stars (with 0.5 increments encouraged). No prior VE experience is needed—just a willingness to support future-ready students!
URL:https://veinternational.org/event/business-overview-scoring-tx-fl-nc/
LOCATION:Online – At Your Own Pace
ATTACH;FMTTYPE=image/png:https://veinternational.org/wp-content/uploads/2025/08/website-photos.png
END:VEVENT
END:VCALENDAR