BEGIN:VCALENDAR
VERSION:2.0
PRODID:-//Virtual Enterprises International - ECPv6.6.2//NONSGML v1.0//EN
CALSCALE:GREGORIAN
METHOD:PUBLISH
X-ORIGINAL-URL:https://veinternational.org
X-WR-CALDESC:Events for Virtual Enterprises International
REFRESH-INTERVAL;VALUE=DURATION:PT1H
X-Robots-Tag:noindex
X-PUBLISHED-TTL:PT1H
BEGIN:VTIMEZONE
TZID:America/Halifax
BEGIN:DAYLIGHT
TZOFFSETFROM:-0400
TZOFFSETTO:-0300
TZNAME:ADT
DTSTART:20240310T060000
END:DAYLIGHT
BEGIN:STANDARD
TZOFFSETFROM:-0300
TZOFFSETTO:-0400
TZNAME:AST
DTSTART:20241103T050000
END:STANDARD
END:VTIMEZONE
BEGIN:VEVENT
DTSTART;TZID=America/Halifax:20241204T080000
DTEND;TZID=America/Halifax:20241204T141500
DTSTAMP:20260422T144200
CREATED:20240923T143304Z
LAST-MODIFIED:20241021T152652Z
UID:10000067-1733299200-1733321700@veinternational.org
SUMMARY:Orange County Business Plan Competition
DESCRIPTION:This competition represents Rounds 1 and 2 of the Regional Business Plan Competition. During this event\, all VE teams will present twice\, each with a different judge panel.\nThe top 42 teams from all Rounds 1 and 2 in the West will be invited to the semi-final round 3 in Bakersfield on January 22\, 2025.\nPacific Time Zone
URL:https://veinternational.org/event/orange-county-business-plan-competition/
LOCATION:Saddleback College\, 28000 Marguerite Pkwy\, Mission Viejo\, CA\, 92692\, United States
ATTACH;FMTTYPE=image/png:https://veinternational.org/wp-content/uploads/2024/09/Screenshot-2024-09-03-at-2.06.28 PM-1-e1755022857868.png
END:VEVENT
END:VCALENDAR