BEGIN:VCALENDAR
VERSION:2.0
PRODID:-//Virtual Enterprises International - ECPv6.6.2//NONSGML v1.0//EN
CALSCALE:GREGORIAN
METHOD:PUBLISH
X-ORIGINAL-URL:https://veinternational.org
X-WR-CALDESC:Events for Virtual Enterprises International
REFRESH-INTERVAL;VALUE=DURATION:PT1H
X-Robots-Tag:noindex
X-PUBLISHED-TTL:PT1H
BEGIN:VTIMEZONE
TZID:America/Halifax
BEGIN:DAYLIGHT
TZOFFSETFROM:-0400
TZOFFSETTO:-0300
TZNAME:ADT
DTSTART:20240310T060000
END:DAYLIGHT
BEGIN:STANDARD
TZOFFSETFROM:-0300
TZOFFSETTO:-0400
TZNAME:AST
DTSTART:20241103T050000
END:STANDARD
END:VTIMEZONE
BEGIN:VEVENT
DTSTART;TZID=America/Halifax:20241216T083000
DTEND;TZID=America/Halifax:20241216T123000
DTSTAMP:20260422T144328
CREATED:20240829T193135Z
LAST-MODIFIED:20240930T195512Z
UID:10000046-1734337800-1734352200@veinternational.org
SUMMARY:NorCal Business Plan Competition
DESCRIPTION:The National Business Plan Competition challenges students to demonstrate their business expertise through written submissions and oral presentations of their company’s complete business plan. Startup companies and continuing businesses may be presented.\nJudges will be required to review executive summaries for firms online prior to the event and will review and score presentations the day of the competitions based on a rubric provided. View the registration link for more details.
URL:https://veinternational.org/event/norcal-business-plan-competition-dec-16-2024/
LOCATION:Napa Valley College\, 2277 Napa Vallejo Hwy\, Napa\, CA\, 94558
ATTACH;FMTTYPE=image/jpeg:https://veinternational.org/wp-content/uploads/2024/08/MiddleGround-Business-Plan-Team-2-e1727726054666.jpeg
END:VEVENT
BEGIN:VEVENT
DTSTART;TZID=America/Halifax:20241216T100000
DTEND;TZID=America/Halifax:20241216T120000
DTSTAMP:20260422T144328
CREATED:20240829T193043Z
LAST-MODIFIED:20240911T140912Z
UID:10000032-1734343200-1734350400@veinternational.org
SUMMARY:NYC Executive Summary Scoring
DESCRIPTION:Join us for an executive summary scoring session where we will review and rate four-page executive summaries submitted by NYC schools on their student run businesses.\n\nYour participation in scoring these summaries will prepare students for the in-person oral business plan competitions and help them as they compete against regional firms hoping to advance to the National Business Plan Competition in April.
URL:https://veinternational.org/event/nyc-executive-summary-scoring-3/
LOCATION:Online – Live via Zoom
END:VEVENT
END:VCALENDAR