BEGIN:VCALENDAR
VERSION:2.0
PRODID:-//Virtual Enterprises International - ECPv6.6.2//NONSGML v1.0//EN
CALSCALE:GREGORIAN
METHOD:PUBLISH
X-WR-CALNAME:Virtual Enterprises International
X-ORIGINAL-URL:https://veinternational.org
X-WR-CALDESC:Events for Virtual Enterprises International
REFRESH-INTERVAL;VALUE=DURATION:PT1H
X-Robots-Tag:noindex
X-PUBLISHED-TTL:PT1H
BEGIN:VTIMEZONE
TZID:America/Halifax
BEGIN:DAYLIGHT
TZOFFSETFROM:-0400
TZOFFSETTO:-0300
TZNAME:ADT
DTSTART:20240310T060000
END:DAYLIGHT
BEGIN:STANDARD
TZOFFSETFROM:-0300
TZOFFSETTO:-0400
TZNAME:AST
DTSTART:20241103T050000
END:STANDARD
END:VTIMEZONE
BEGIN:VEVENT
DTSTART;TZID=America/Halifax:20241218T093000
DTEND;TZID=America/Halifax:20241218T133000
DTSTAMP:20260422T144026
CREATED:20240829T193148Z
LAST-MODIFIED:20240918T184655Z
UID:10000048-1734514200-1734528600@veinternational.org
SUMMARY:Local Business Plan Competition – Manhattan and Bronx Division
DESCRIPTION:The Local Business Plan Competition challenges Manhattan & Bronx teams to showcase their global business expertise through written submissions and oral presentations\, with the opportunity to qualify for the citywide competition in February.\nTeams of 3-6 students will have 10 minutes to present their business plan\, followed by a 5-minute Q&A with the judges. This event rewards excellence and helps students to develop advanced business skills.
URL:https://veinternational.org/event/local-business-plan-competition-manhattan-bronx-division/
LOCATION:University of Mount St. Vincent\, 6301 Riverdale Ave\, Bronx\, NY\, 10471
ATTACH;FMTTYPE=image/png:https://veinternational.org/wp-content/uploads/2024/08/Manhattan-Bronx-NYC-e1726684894881.png
END:VEVENT
END:VCALENDAR