BEGIN:VCALENDAR
VERSION:2.0
PRODID:-//Virtual Enterprises International - ECPv6.6.2//NONSGML v1.0//EN
CALSCALE:GREGORIAN
METHOD:PUBLISH
X-WR-CALNAME:Virtual Enterprises International
X-ORIGINAL-URL:https://veinternational.org
X-WR-CALDESC:Events for Virtual Enterprises International
REFRESH-INTERVAL;VALUE=DURATION:PT1H
X-Robots-Tag:noindex
X-PUBLISHED-TTL:PT1H
BEGIN:VTIMEZONE
TZID:America/Halifax
BEGIN:DAYLIGHT
TZOFFSETFROM:-0400
TZOFFSETTO:-0300
TZNAME:ADT
DTSTART:20240310T060000
END:DAYLIGHT
BEGIN:STANDARD
TZOFFSETFROM:-0300
TZOFFSETTO:-0400
TZNAME:AST
DTSTART:20241103T050000
END:STANDARD
END:VTIMEZONE
BEGIN:VEVENT
DTSTART;TZID=America/Halifax:20241219T080000
DTEND;TZID=America/Halifax:20241219T170000
DTSTAMP:20260422T144027
CREATED:20240829T193148Z
LAST-MODIFIED:20241119T140304Z
UID:10000049-1734595200-1734627600@veinternational.org
SUMMARY:Local Business Plan Competition – Queens Division
DESCRIPTION:The Local Business Plan Competition challenges Queens teams to showcase their global business expertise through written submissions and oral presentations\, competing to qualify for the City-Wide Competition in February. Teams of 3-6 students will have 10 minutes to present their business plan\, followed by 5 minutes of Q&A with the judges. This event rewards excellence and trains students to apply advanced business skills.\nThis competition consist of two judging sessions\, morning and afternoon. See below for the session times and view the registration form for more details.\nMorning Session: 8:00 am – 12:15 pm\nAfternoon Session: 12: 15 pm – 5:00 pm
URL:https://veinternational.org/event/local-business-plan-competition-queens-division/
LOCATION:Academy of Finance and Enterprise\, 30-20 Thomson Ave\, Long Island City\, NY\, 11101\, United States
ATTACH;FMTTYPE=image/png:https://veinternational.org/wp-content/uploads/2024/08/Queens-NYC-e1726684881232.png
END:VEVENT
END:VCALENDAR