BEGIN:VCALENDAR
VERSION:2.0
PRODID:-//Virtual Enterprises International - ECPv6.6.2//NONSGML v1.0//EN
CALSCALE:GREGORIAN
METHOD:PUBLISH
X-ORIGINAL-URL:https://veinternational.org
X-WR-CALDESC:Events for Virtual Enterprises International
REFRESH-INTERVAL;VALUE=DURATION:PT1H
X-Robots-Tag:noindex
X-PUBLISHED-TTL:PT1H
BEGIN:VTIMEZONE
TZID:America/Halifax
BEGIN:DAYLIGHT
TZOFFSETFROM:-0400
TZOFFSETTO:-0300
TZNAME:ADT
DTSTART:20250309T060000
END:DAYLIGHT
BEGIN:STANDARD
TZOFFSETFROM:-0300
TZOFFSETTO:-0400
TZNAME:AST
DTSTART:20251102T050000
END:STANDARD
END:VTIMEZONE
BEGIN:VEVENT
DTSTART;TZID=America/Halifax:20250114T080000
DTEND;TZID=America/Halifax:20250114T170000
DTSTAMP:20260422T125454
CREATED:20240905T180107Z
LAST-MODIFIED:20240918T185822Z
UID:10000061-1736841600-1736874000@veinternational.org
SUMMARY:2025 Central NJ Business Plan Competition & Exhibition
DESCRIPTION:The 2025 Central NJ Business Plan Competition & Exhibition challenges NJ teams to showcase their global business expertise through written submissions and oral presentations\, competing to qualify for the National Business Plan Competition at the Youth Business Summit in April. \nTeams of 3-6 students will have 10 minutes to present their business plan\, followed by 5 minutes of Q&A with the judges.\nDuring this event students also have the opportunity to participate in a trade show to present their sales skills and compete in competitions such as booth design and sales pitch.
URL:https://veinternational.org/event/2025-central-nj-business-plan-competition-exhibition/
LOCATION:Fairleigh Dickinson University\, 285 Madison Avenue\, Madison\, NJ\, 07940\, United States
ATTACH;FMTTYPE=image/png:https://veinternational.org/wp-content/uploads/2024/09/Central-Division-Mid-Atlantic-e1726685893647.png
END:VEVENT
END:VCALENDAR