BEGIN:VCALENDAR
VERSION:2.0
PRODID:-//Virtual Enterprises International - ECPv6.6.2//NONSGML v1.0//EN
CALSCALE:GREGORIAN
METHOD:PUBLISH
X-ORIGINAL-URL:https://veinternational.org
X-WR-CALDESC:Events for Virtual Enterprises International
REFRESH-INTERVAL;VALUE=DURATION:PT1H
X-Robots-Tag:noindex
X-PUBLISHED-TTL:PT1H
BEGIN:VTIMEZONE
TZID:America/Halifax
BEGIN:DAYLIGHT
TZOFFSETFROM:-0400
TZOFFSETTO:-0300
TZNAME:ADT
DTSTART:20250309T060000
END:DAYLIGHT
BEGIN:STANDARD
TZOFFSETFROM:-0300
TZOFFSETTO:-0400
TZNAME:AST
DTSTART:20251102T050000
END:STANDARD
END:VTIMEZONE
BEGIN:VEVENT
DTSTART;TZID=America/Halifax:20250115T090000
DTEND;TZID=America/Halifax:20250115T120000
DTSTAMP:20260422T125615
CREATED:20240905T162716Z
LAST-MODIFIED:20240918T185907Z
UID:10000060-1736931600-1736942400@veinternational.org
SUMMARY:2025 Mid-Atlantic South Division Business Plan Competition
DESCRIPTION:The South Division Business Plan Competition brings together schools from the Mid-Atlantic Region to compete for their regional business plan competition. Firms will compete for the opportunity to represent their firm at the National Business Plan Competition in April.
URL:https://veinternational.org/event/2025-mid-atlantic-south-division-business-plan-competition/
LOCATION:Online – Live via Zoom
ATTACH;FMTTYPE=image/png:https://veinternational.org/wp-content/uploads/2024/09/South-Division-Mid-Atlantic-1-e1726685932610.png
END:VEVENT
END:VCALENDAR