BEGIN:VCALENDAR
VERSION:2.0
PRODID:-//Virtual Enterprises International - ECPv6.6.2//NONSGML v1.0//EN
CALSCALE:GREGORIAN
METHOD:PUBLISH
X-WR-CALNAME:Virtual Enterprises International
X-ORIGINAL-URL:https://veinternational.org
X-WR-CALDESC:Events for Virtual Enterprises International
REFRESH-INTERVAL;VALUE=DURATION:PT1H
X-Robots-Tag:noindex
X-PUBLISHED-TTL:PT1H
BEGIN:VTIMEZONE
TZID:America/Halifax
BEGIN:DAYLIGHT
TZOFFSETFROM:-0400
TZOFFSETTO:-0300
TZNAME:ADT
DTSTART:20250309T060000
END:DAYLIGHT
BEGIN:STANDARD
TZOFFSETFROM:-0300
TZOFFSETTO:-0400
TZNAME:AST
DTSTART:20251102T050000
END:STANDARD
END:VTIMEZONE
BEGIN:VEVENT
DTSTART;TZID=America/Halifax:20250206T080000
DTEND;TZID=America/Halifax:20250207T150000
DTSTAMP:20260422T110655
CREATED:20240829T193134Z
LAST-MODIFIED:20240904T205248Z
UID:10000043-1738828800-1738940400@veinternational.org
SUMMARY:2025 Southern Region Competition & Exhibition
DESCRIPTION:On the first day of the 2025 Southern Region Competition & Exhibition students from Florida will have the opportunity to compete in the Regional Business Plan Competition for their opportunity to move on to the National Competition in NYC. Students will also compete in department competitions sucha are HR\, Finance & Marketing to qualifiy to compere in NYC in April.\nOn the second day of the conference firms throughout the country will have the opportunity to be a part of the Trade Show to demonstrate their sales techniques and compete in events such as Best Booth and Sales Pitch competitions.
URL:https://veinternational.org/event/2025-southern-region-competition-exhibition/
LOCATION:Nova Southeastern University\, 3300 S University Dr\, Fort Lauderdale\, FL\, 33328
ATTACH;FMTTYPE=image/jpeg:https://veinternational.org/wp-content/uploads/2024/08/IMG_1678-scaled-e1725482545896.jpeg
END:VEVENT
END:VCALENDAR