BEGIN:VCALENDAR
VERSION:2.0
PRODID:-//Virtual Enterprises International - ECPv6.6.2//NONSGML v1.0//EN
CALSCALE:GREGORIAN
METHOD:PUBLISH
X-ORIGINAL-URL:https://veinternational.org
X-WR-CALDESC:Events for Virtual Enterprises International
REFRESH-INTERVAL;VALUE=DURATION:PT1H
X-Robots-Tag:noindex
X-PUBLISHED-TTL:PT1H
BEGIN:VTIMEZONE
TZID:America/Halifax
BEGIN:DAYLIGHT
TZOFFSETFROM:-0400
TZOFFSETTO:-0300
TZNAME:ADT
DTSTART:20240310T060000
END:DAYLIGHT
BEGIN:STANDARD
TZOFFSETFROM:-0300
TZOFFSETTO:-0400
TZNAME:AST
DTSTART:20241103T050000
END:STANDARD
END:VTIMEZONE
BEGIN:VEVENT
DTSTART;TZID=America/Halifax:20241025T000000
DTEND;TZID=America/Halifax:20241120T000000
DTSTAMP:20260423T183902
CREATED:20240829T193121Z
LAST-MODIFIED:20241118T151803Z
UID:10000041-1729814400-1732060800@veinternational.org
SUMMARY:National Elevator Pitch Competition
DESCRIPTION:An elevator pitch is a quick and persuasive speech that generates interest in a person\, product\, service\, or business. The name elevator pitch is used because the conversation usually takes place within the amount of time of a short elevator ride. This competition challenges VE students to make a convincing and engaging elevator pitch about their business to someone they recently met. \nJudges are asked to review and score student elevator pitches and provide helpful feedback.
URL:https://veinternational.org/event/national-elevator-pitch-competition-2/
LOCATION:Online – At Your Own Pace
ATTACH;FMTTYPE=image/png:https://veinternational.org/wp-content/uploads/2024/08/Screenshot-2024-08-26-at-1.50.25 PM.png
END:VEVENT
END:VCALENDAR