BEGIN:VCALENDAR
VERSION:2.0
PRODID:-//Virtual Enterprises International - ECPv6.6.2//NONSGML v1.0//EN
CALSCALE:GREGORIAN
METHOD:PUBLISH
X-WR-CALNAME:Virtual Enterprises International
X-ORIGINAL-URL:https://veinternational.org
X-WR-CALDESC:Events for Virtual Enterprises International
REFRESH-INTERVAL;VALUE=DURATION:PT1H
X-Robots-Tag:noindex
X-PUBLISHED-TTL:PT1H
BEGIN:VTIMEZONE
TZID:America/Halifax
BEGIN:DAYLIGHT
TZOFFSETFROM:-0400
TZOFFSETTO:-0300
TZNAME:ADT
DTSTART:20250309T060000
END:DAYLIGHT
BEGIN:STANDARD
TZOFFSETFROM:-0300
TZOFFSETTO:-0400
TZNAME:AST
DTSTART:20251102T050000
END:STANDARD
END:VTIMEZONE
BEGIN:VEVENT
DTSTART;TZID=America/Halifax:20251113T080000
DTEND;TZID=America/Halifax:20251113T133000
DTSTAMP:20260422T233923
CREATED:20250729T200055Z
LAST-MODIFIED:20250729T200055Z
UID:10000079-1763020800-1763040600@veinternational.org
SUMMARY:2025 Student Entrepreneurship Day - Broward
DESCRIPTION:Join us for Student Entrepreneurship Day at the Broward County Convention Center—a dynamic leadership event where high school students from across Broward County will present business ideas developed through the VE AI Challenge. These innovative presentations will highlight how students are integrating artificial intelligence into their virtual enterprises\, demonstrating creativity\, strategic thinking\, and entrepreneurial skills. \nWe’re looking for volunteer judges to evaluate student pitches and offer meaningful feedback. No AI expertise is required—just an interest in supporting future leaders. To volunteer as a judge\, please register above.
URL:https://veinternational.org/event/2025-student-entrepreneurship-day-broward/
LOCATION:Broward County Convention Center\, 1950 Eisenhower Blvd\, Fort Lauderdale\, FL\, 33316\, United States
ATTACH;FMTTYPE=image/png:https://veinternational.org/wp-content/uploads/2025/07/photo-e1753808360701.png
END:VEVENT
END:VCALENDAR