BEGIN:VCALENDAR
VERSION:2.0
PRODID:-//Virtual Enterprises International - ECPv6.6.2//NONSGML v1.0//EN
CALSCALE:GREGORIAN
METHOD:PUBLISH
X-WR-CALNAME:Virtual Enterprises International
X-ORIGINAL-URL:https://veinternational.org
X-WR-CALDESC:Events for Virtual Enterprises International
REFRESH-INTERVAL;VALUE=DURATION:PT1H
X-Robots-Tag:noindex
X-PUBLISHED-TTL:PT1H
BEGIN:VTIMEZONE
TZID:America/Halifax
BEGIN:DAYLIGHT
TZOFFSETFROM:-0400
TZOFFSETTO:-0300
TZNAME:ADT
DTSTART:20260308T060000
END:DAYLIGHT
BEGIN:STANDARD
TZOFFSETFROM:-0300
TZOFFSETTO:-0400
TZNAME:AST
DTSTART:20261101T050000
END:STANDARD
END:VTIMEZONE
BEGIN:VEVENT
DTSTART;TZID=America/Halifax:20260101T080000
DTEND;TZID=America/Halifax:20260108T133000
DTSTAMP:20260421T191939
CREATED:20250804T191743Z
LAST-MODIFIED:20251016T153310Z
UID:10000082-1767254400-1767879000@veinternational.org
SUMMARY:Online Written Submission Scoring - Marketing\, Finance & HR Competition
DESCRIPTION:We’re looking for volunteer judges to evaluate student submissions for the Virtual Enterprises Human Resources\, Marketing\, and Finance Competitions. Judging is asynchronous and flexible—submissions will be assigned through the VE Competitions Manager\, and judges can complete scoring at their own pace over multiple days. \nJudges will assess written entries based on a provided rubric tailored to each department\, including areas such as employee engagement strategies\, branding and outreach plans\, financial performance\, and more. Each component will be rated on a 1 to 5 star scale\, with 0.5 increments encouraged. No prior VE experience is required—just an interest in supporting the next generation of business leaders!
URL:https://veinternational.org/event/online-written-submission-scoring-marketing-finance-hr-competition/
LOCATION:Online – At Your Own Pace
ATTACH;FMTTYPE=image/png:https://veinternational.org/wp-content/uploads/2025/07/photo-e1753808360701.png
END:VEVENT
BEGIN:VEVENT
DTSTART;TZID=America/Halifax:20260128T080000
DTEND;TZID=America/Halifax:20260201T133000
DTSTAMP:20260421T191939
CREATED:20250903T152027Z
LAST-MODIFIED:20250903T152027Z
UID:10000091-1769587200-1769952600@veinternational.org
SUMMARY:Midwest Online HR\, Finance and Marketing Competition
DESCRIPTION:Judge Period: January 28 – February 1\, 2026 \nCompetition Details: Join us as an online asynchronous judge by reviewing and rating he submitted entires for students in the midwest region to compete in Marketing\, Human Resource and Finance competitions. \nFor this competitions judges may select which competition they would like to judge. When judging opens up you will receive a link to judge the submissions on our VE competitions manager. \nThe scores from this competition will help determine who competes during the round 2 presentations on February 12\, 2026. \nThe judging options are below: \n\nHuman Resources\nFinance\nMarketing
URL:https://veinternational.org/event/midwest-online-hr-finance-and-marketing-competition/
LOCATION:Online – At Your Own Pace
ATTACH;FMTTYPE=image/jpeg:https://veinternational.org/wp-content/uploads/2025/09/DSC09768-scaled-e1756912796847.jpg
END:VEVENT
END:VCALENDAR