BEGIN:VCALENDAR
VERSION:2.0
PRODID:-//Virtual Enterprises International - ECPv6.6.2//NONSGML v1.0//EN
CALSCALE:GREGORIAN
METHOD:PUBLISH
X-WR-CALNAME:Virtual Enterprises International
X-ORIGINAL-URL:https://veinternational.org
X-WR-CALDESC:Events for Virtual Enterprises International
REFRESH-INTERVAL;VALUE=DURATION:PT1H
X-Robots-Tag:noindex
X-PUBLISHED-TTL:PT1H
BEGIN:VTIMEZONE
TZID:America/Halifax
BEGIN:DAYLIGHT
TZOFFSETFROM:-0400
TZOFFSETTO:-0300
TZNAME:ADT
DTSTART:20250309T060000
END:DAYLIGHT
BEGIN:STANDARD
TZOFFSETFROM:-0300
TZOFFSETTO:-0400
TZNAME:AST
DTSTART:20251102T050000
END:STANDARD
END:VTIMEZONE
BEGIN:VEVENT
DTSTART;TZID=America/Halifax:20251123T080000
DTEND;TZID=America/Halifax:20251202T133000
DTSTAMP:20260423T075420
CREATED:20250818T191137Z
LAST-MODIFIED:20250818T191639Z
UID:10000089-1763884800-1764682200@veinternational.org
SUMMARY:MI - Midwest Region Fall Conference & Exhibition - Online Competitions
DESCRIPTION:We invite experienced and enthusiastic judges to participate in the evaluation of student submissions ahead of the Illinois Midwest Conference & Exhibition on November 14th. Students participating in the conference have submitted work across multiple competition categories\, and your expertise will help recognize their efforts and achievements. \nJudging Timeline: \nJudges will receive login credentials and detailed instructions by November 23 to access the VE Online Competition Manager platform. Using the provided rubric\, judges will review submissions and complete scoring by December 2. \nCompetition Categories: \nCompany Branding: Evaluation of student firms’ branding guidelines\, including logos\, color schemes\, and usage examples. Judging focuses on branding elements\, consistency\, and relevance to the business.\nSales Material: Review of sales collateral such as catalogs\, brochures\, direct mail campaigns\, or promotional materials\, assessed on content\, design\, salesmanship\, and professionalism.\nNewsletter: Firms create a two-page (front and back) newsletter targeted to employees\, featuring company news\, economic insights\, product information\, and employee highlights.\nWebsite: Evaluation of the functionality and design of each firm’s website\, assessing usability and aesthetic appeal.
URL:https://veinternational.org/event/mi-midwest-region-fall-conference-exhibition-online-competitions/
LOCATION:Online – At Your Own Pace
ATTACH;FMTTYPE=image/png:https://veinternational.org/wp-content/uploads/2024/08/Screenshot-2024-08-28-at-8.38.10-PM-e1755024708649.png
END:VEVENT
END:VCALENDAR