BEGIN:VCALENDAR
VERSION:2.0
PRODID:-//Virtual Enterprises International - ECPv6.6.2//NONSGML v1.0//EN
CALSCALE:GREGORIAN
METHOD:PUBLISH
X-WR-CALNAME:Virtual Enterprises International
X-ORIGINAL-URL:https://veinternational.org
X-WR-CALDESC:Events for Virtual Enterprises International
REFRESH-INTERVAL;VALUE=DURATION:PT1H
X-Robots-Tag:noindex
X-PUBLISHED-TTL:PT1H
BEGIN:VTIMEZONE
TZID:America/Halifax
BEGIN:DAYLIGHT
TZOFFSETFROM:-0400
TZOFFSETTO:-0300
TZNAME:ADT
DTSTART:20260308T060000
END:DAYLIGHT
BEGIN:STANDARD
TZOFFSETFROM:-0300
TZOFFSETTO:-0400
TZNAME:AST
DTSTART:20261101T050000
END:STANDARD
END:VTIMEZONE
BEGIN:VEVENT
DTSTART;TZID=America/Halifax:20260204T080000
DTEND;TZID=America/Halifax:20260205T133000
DTSTAMP:20260423T073125
CREATED:20250909T200618Z
LAST-MODIFIED:20250909T200639Z
UID:10000100-1770192000-1770298200@veinternational.org
SUMMARY:2026 California State Conference and Exhibition
DESCRIPTION:The 2026 California State Conference and Exhibition will bring together VE High School and JV Middle School students for two days of leadership development\, competitions\, and business-focused activities. Judges play a vital role in evaluating student performance and providing meaningful feedback as participants showcase their skills in business planning\, marketing\, sales\, communication\, and design. \nThis year’s conference will take place on February 4–5\, 2026 at the Dignity Health Convention Center (formerly Mechanics Bank Arena & Convention Center)\, 1001 Truxtun Avenue\, Bakersfield\, CA 93301. \nJudges can register for specific competitions and time slots which include: \nFebruary 4 \nBusiness Plan (Preliminaries & Semi-Finals) – 7:30 AM – 1:00 PM or 12:00 PM – 4:00 PM \nMarketing Plan (Semi-Finals & Finals) – 7:30 AM – 1:00 PM or 12:00 PM – 4:00 PM \nHuman Resource Plan (Semi-Finals & Finals) – 7:30 AM – 1:00 PM or 12:00 PM – 4:00 PM \nFebruary 5 \nBusiness Plan (Finals) – 10:30 AM – 1:00 PM \nBooth Design Competition – 10:30 AM – 1:00 PM \nSales Pitch Competition – 10:30 AM – 1:00 PM \nAdditional events such as the Trade Show\, Video Commercial\, Elevator Pitch\, Newsletter\, and Rapid Prototype will also be taking place throughout the conference. \nJudges will evaluate student submissions and presentations based on established rubrics and provide constructive comments to support students’ growth. This is an opportunity to directly impact the next generation of business leaders while engaging with innovative ideas and creative presentations from students across California. \n  \n*All times as Pacific Standard Time*
URL:https://veinternational.org/event/event-template-2/
LOCATION:Dignity Health Convention Center\, 1001 Truxtun Ave\, Bakersfield\, 93301\, United States
ATTACH;FMTTYPE=image/jpeg:https://veinternational.org/wp-content/uploads/2025/09/JWP_VEI_BusinessPlanLIU_021723-5576-scaled-e1757448369614.jpg
END:VEVENT
END:VCALENDAR