BEGIN:VCALENDAR
VERSION:2.0
PRODID:-//Virtual Enterprises International - ECPv6.6.2//NONSGML v1.0//EN
CALSCALE:GREGORIAN
METHOD:PUBLISH
X-ORIGINAL-URL:https://veinternational.org
X-WR-CALDESC:Events for Virtual Enterprises International
REFRESH-INTERVAL;VALUE=DURATION:PT1H
X-Robots-Tag:noindex
X-PUBLISHED-TTL:PT1H
BEGIN:VTIMEZONE
TZID:America/Halifax
BEGIN:DAYLIGHT
TZOFFSETFROM:-0400
TZOFFSETTO:-0300
TZNAME:ADT
DTSTART:20240310T060000
END:DAYLIGHT
BEGIN:STANDARD
TZOFFSETFROM:-0300
TZOFFSETTO:-0400
TZNAME:AST
DTSTART:20241103T050000
END:STANDARD
BEGIN:DAYLIGHT
TZOFFSETFROM:-0400
TZOFFSETTO:-0300
TZNAME:ADT
DTSTART:20250309T060000
END:DAYLIGHT
BEGIN:STANDARD
TZOFFSETFROM:-0300
TZOFFSETTO:-0400
TZNAME:AST
DTSTART:20251102T050000
END:STANDARD
END:VTIMEZONE
BEGIN:VEVENT
DTSTART;TZID=America/Halifax:20251208T080000
DTEND;TZID=America/Halifax:20251208T133000
DTSTAMP:20260422T174939
CREATED:20250812T182111Z
LAST-MODIFIED:20250812T182111Z
UID:10000086-1765180800-1765200600@veinternational.org
SUMMARY:2025 - Michigan Midwest Regional Fall Conference & Exhibition
DESCRIPTION:The Midwest Region Conference & Exhibition is a in-person trade show with a number of live competitions. Volunteers will be judging competitions including Best Booth\, Outstanding Salesmanship and Elevator Pitch using competition scoring guides. \nAs a judge\, you will hear several presentations and complete the scoring guide. Review the details in the registration link above to determine which “day-of” events you would like to be a part. \n 
URL:https://veinternational.org/event/2025-michigan-midwest-regional-fall-conference-exhibition/
LOCATION:Saginaw Valley State University\, 400 Bay Rd\, University Center\,\, MI\, 48710\, United States
ATTACH;FMTTYPE=image/png:https://veinternational.org/wp-content/uploads/2024/09/Screenshot-2024-09-03-at-2.06.28 PM-1-e1755022857868.png
END:VEVENT
BEGIN:VEVENT
DTSTART;TZID=America/Halifax:20241209T120000
DTEND;TZID=America/Halifax:20241210T170000
DTSTAMP:20260422T174939
CREATED:20240903T180226Z
LAST-MODIFIED:20240904T171740Z
UID:10000058-1733745600-1733850000@veinternational.org
SUMMARY:Midwest Regional Fall Conference & Exhibition
DESCRIPTION:The Midwest Region Fall Conference & Exhibition will be held at Saginaw Valley State University.\nThis event will include a variety of competitions\, trade show\, and final rounds for the Midwest Business Plan Competition.
URL:https://veinternational.org/event/midwest-regional-fall-conference-exhibition/
LOCATION:Saginaw Valley State University\, 400 Bay Rd\, University Center\,\, MI\, 48710\, United States
ATTACH;FMTTYPE=image/png:https://veinternational.org/wp-content/uploads/2024/09/Screenshot-2024-09-03-at-2.06.28 PM-1-e1755022857868.png
END:VEVENT
END:VCALENDAR